BEGIN:VCALENDAR
VERSION:2.0
PRODID:-//Årstavikens Segelsällskap - ÅSS - ECPv6.15.20//NONSGML v1.0//EN
CALSCALE:GREGORIAN
METHOD:PUBLISH
X-WR-CALNAME:Årstavikens Segelsällskap - ÅSS
X-ORIGINAL-URL:https://xn--ss-xia.nu
X-WR-CALDESC:Händelser för Årstavikens Segelsällskap - ÅSS
REFRESH-INTERVAL;VALUE=DURATION:PT1H
X-Robots-Tag:noindex
X-PUBLISHED-TTL:PT1H
BEGIN:VTIMEZONE
TZID:Europe/Stockholm
BEGIN:DAYLIGHT
TZOFFSETFROM:+0100
TZOFFSETTO:+0200
TZNAME:CEST
DTSTART:20250330T010000
END:DAYLIGHT
BEGIN:STANDARD
TZOFFSETFROM:+0200
TZOFFSETTO:+0100
TZNAME:CET
DTSTART:20251026T010000
END:STANDARD
BEGIN:DAYLIGHT
TZOFFSETFROM:+0100
TZOFFSETTO:+0200
TZNAME:CEST
DTSTART:20260329T010000
END:DAYLIGHT
BEGIN:STANDARD
TZOFFSETFROM:+0200
TZOFFSETTO:+0100
TZNAME:CET
DTSTART:20261025T010000
END:STANDARD
BEGIN:DAYLIGHT
TZOFFSETFROM:+0100
TZOFFSETTO:+0200
TZNAME:CEST
DTSTART:20270328T010000
END:DAYLIGHT
BEGIN:STANDARD
TZOFFSETFROM:+0200
TZOFFSETTO:+0100
TZNAME:CET
DTSTART:20271031T010000
END:STANDARD
END:VTIMEZONE
BEGIN:VEVENT
DTSTART;VALUE=DATE:20260424
DTEND;VALUE=DATE:20260427
DTSTAMP:20260423T114617
CREATED:20260129T104002Z
LAST-MODIFIED:20260129T104002Z
UID:9785-1776988800-1777247999@xn--ss-xia.nu
SUMMARY:Sjösättning
DESCRIPTION:
URL:https://xn--ss-xia.nu/event/sjosattning-5/
END:VEVENT
BEGIN:VEVENT
DTSTART;TZID=Europe/Stockholm:20260424T233000
DTEND;TZID=Europe/Stockholm:20260424T233000
DTSTAMP:20260423T114617
CREATED:20260331T182447Z
LAST-MODIFIED:20260331T182554Z
UID:10106-1777073400-1777073400@xn--ss-xia.nu
SUMMARY:Egen Nattvakts bokning upphör...
DESCRIPTION:Möjligheten att själv boka sitt eget vaktdatum upphör kl. 23\,30 \nDe som ej bokat\, tilldelas ett datum av vaktchefen.
URL:https://xn--ss-xia.nu/event/egen-nattvakts-bokning-upphor/
END:VEVENT
BEGIN:VEVENT
DTSTART;TZID=Europe/Stockholm:20260426T100000
DTEND;TZID=Europe/Stockholm:20260426T130000
DTSTAMP:20260423T114617
CREATED:20260420T181433Z
LAST-MODIFIED:20260420T181538Z
UID:10304-1777197600-1777208400@xn--ss-xia.nu
SUMMARY:Sjösättning ungdomssektionen kl. 10-13
DESCRIPTION:Ungdomssektionen sjösätter samtidigt som övriga i klubben
URL:https://xn--ss-xia.nu/event/sjosattning-ungdomssektionen-kl-10-13/
CATEGORIES:Ungdom
END:VEVENT
BEGIN:VEVENT
DTSTART;TZID=Europe/Stockholm:20260428T183000
DTEND;TZID=Europe/Stockholm:20260428T183000
DTSTAMP:20260423T114617
CREATED:20260319T215952Z
LAST-MODIFIED:20260319T215952Z
UID:9989-1777401000-1777401000@xn--ss-xia.nu
SUMMARY:Styrelsemöte kl 18.30-20.00
DESCRIPTION:Styrelsemöte i klubbhuset kl 18.30-20.00
URL:https://xn--ss-xia.nu/event/styrelsemote-kl-18-30-20-00/
CATEGORIES:Klubbhus,Styrelse
END:VEVENT
END:VCALENDAR