BEGIN:VCALENDAR
VERSION:2.0
PRODID:-//Årstavikens Segelsällskap - ÅSS - ECPv6.15.20//NONSGML v1.0//EN
CALSCALE:GREGORIAN
METHOD:PUBLISH
X-WR-CALNAME:Årstavikens Segelsällskap - ÅSS
X-ORIGINAL-URL:https://xn--ss-xia.nu
X-WR-CALDESC:Händelser för Årstavikens Segelsällskap - ÅSS
REFRESH-INTERVAL;VALUE=DURATION:PT1H
X-Robots-Tag:noindex
X-PUBLISHED-TTL:PT1H
BEGIN:VTIMEZONE
TZID:Europe/Stockholm
BEGIN:DAYLIGHT
TZOFFSETFROM:+0100
TZOFFSETTO:+0200
TZNAME:CEST
DTSTART:20240331T010000
END:DAYLIGHT
BEGIN:STANDARD
TZOFFSETFROM:+0200
TZOFFSETTO:+0100
TZNAME:CET
DTSTART:20241027T010000
END:STANDARD
BEGIN:DAYLIGHT
TZOFFSETFROM:+0100
TZOFFSETTO:+0200
TZNAME:CEST
DTSTART:20250330T010000
END:DAYLIGHT
BEGIN:STANDARD
TZOFFSETFROM:+0200
TZOFFSETTO:+0100
TZNAME:CET
DTSTART:20251026T010000
END:STANDARD
BEGIN:DAYLIGHT
TZOFFSETFROM:+0100
TZOFFSETTO:+0200
TZNAME:CEST
DTSTART:20260329T010000
END:DAYLIGHT
BEGIN:STANDARD
TZOFFSETFROM:+0200
TZOFFSETTO:+0100
TZNAME:CET
DTSTART:20261025T010000
END:STANDARD
END:VTIMEZONE
BEGIN:VEVENT
DTSTART;TZID=Europe/Stockholm:20251014T170000
DTEND;TZID=Europe/Stockholm:20251014T210000
DTSTAMP:20260425T212952
CREATED:20250916T172433Z
LAST-MODIFIED:20251005T191853Z
UID:9065-1760461200-1760475600@xn--ss-xia.nu
SUMMARY:Avslutning tisdagsgruppen Åss Ungdom
DESCRIPTION:Terminsavslutning för tisdagsgruppen inom Ungdom
URL:https://xn--ss-xia.nu/event/avslutning-tisdagsgruppen-ass-ungdom/
CATEGORIES:Klubbhus,Ungdom
END:VEVENT
BEGIN:VEVENT
DTSTART;TZID=Europe/Stockholm:20251019T093000
DTEND;TZID=Europe/Stockholm:20251019T160000
DTSTAMP:20260425T212952
CREATED:20250923T173310Z
LAST-MODIFIED:20250923T173310Z
UID:9149-1760866200-1760889600@xn--ss-xia.nu
SUMMARY:Torrsättning/ Upptagning för ungdomsektionen
DESCRIPTION:Ungdomsektionen genomför upptagning av båtar heldag.
URL:https://xn--ss-xia.nu/event/torrsattning-upptagning-for-ungdomsektionen/
CATEGORIES:Åss Hamn,Klubbhus,Ungdom
END:VEVENT
BEGIN:VEVENT
DTSTART;TZID=Europe/Stockholm:20251019T100000
DTEND;TZID=Europe/Stockholm:20251019T140000
DTSTAMP:20260425T212952
CREATED:20251005T211013Z
LAST-MODIFIED:20251005T211139Z
UID:9209-1760868000-1760882400@xn--ss-xia.nu
SUMMARY:Upptagningsrampen reserverad19 oktober kl. 10–14
DESCRIPTION:Ungdomssektionen kommer att ta upp sina båtar söndagen den 19 oktober.\nKlockan 10.00–14.00 är upptagningsrampen reserverad för deras upptagning. \nInga andra båtar kan tas upp under denna period.
URL:https://xn--ss-xia.nu/event/upptagningsrampen-upptagen-19-oktober-kl-10-14/
LOCATION:ÅSS Hamn
CATEGORIES:Åss Hamn,Ungdom
END:VEVENT
END:VCALENDAR