BEGIN:VCALENDAR
VERSION:2.0
PRODID:-//Årstavikens Segelsällskap - ÅSS - ECPv6.15.20//NONSGML v1.0//EN
CALSCALE:GREGORIAN
METHOD:PUBLISH
X-ORIGINAL-URL:https://xn--ss-xia.nu
X-WR-CALDESC:Händelser för Årstavikens Segelsällskap - ÅSS
REFRESH-INTERVAL;VALUE=DURATION:PT1H
X-Robots-Tag:noindex
X-PUBLISHED-TTL:PT1H
BEGIN:VTIMEZONE
TZID:Europe/Stockholm
BEGIN:DAYLIGHT
TZOFFSETFROM:+0100
TZOFFSETTO:+0200
TZNAME:CEST
DTSTART:20250330T010000
END:DAYLIGHT
BEGIN:STANDARD
TZOFFSETFROM:+0200
TZOFFSETTO:+0100
TZNAME:CET
DTSTART:20251026T010000
END:STANDARD
BEGIN:DAYLIGHT
TZOFFSETFROM:+0100
TZOFFSETTO:+0200
TZNAME:CEST
DTSTART:20260329T010000
END:DAYLIGHT
BEGIN:STANDARD
TZOFFSETFROM:+0200
TZOFFSETTO:+0100
TZNAME:CET
DTSTART:20261025T010000
END:STANDARD
BEGIN:DAYLIGHT
TZOFFSETFROM:+0100
TZOFFSETTO:+0200
TZNAME:CEST
DTSTART:20270328T010000
END:DAYLIGHT
BEGIN:STANDARD
TZOFFSETFROM:+0200
TZOFFSETTO:+0100
TZNAME:CET
DTSTART:20271031T010000
END:STANDARD
END:VTIMEZONE
BEGIN:VEVENT
DTSTART;TZID=Europe/Stockholm:20260218T173000
DTEND;TZID=Europe/Stockholm:20260218T203000
DTSTAMP:20260425T160719
CREATED:20260117T071856Z
LAST-MODIFIED:20260117T071856Z
UID:9759-1771435800-1771446600@xn--ss-xia.nu
SUMMARY:Uppstartsmöte Seglarläger i klubbhuset
DESCRIPTION:Vi träffas kl 18.00 för uppstartsmöte inför årets seglarläger\, dvs ni som är intresserade av att delta i lägret uppmanas att komma! \nMed vänliga hälsningar \nPatrik\, Tobbe och Madde
URL:https://xn--ss-xia.nu/event/uppstartsmote-seglarlager-i-klubbhuset/
CATEGORIES:Klubbhus,Ungdom
END:VEVENT
END:VCALENDAR