BEGIN:VCALENDAR
VERSION:2.0
PRODID:-//Årstavikens Segelsällskap - ÅSS - ECPv6.15.20//NONSGML v1.0//EN
CALSCALE:GREGORIAN
METHOD:PUBLISH
X-WR-CALNAME:Årstavikens Segelsällskap - ÅSS
X-ORIGINAL-URL:https://xn--ss-xia.nu
X-WR-CALDESC:Händelser för Årstavikens Segelsällskap - ÅSS
REFRESH-INTERVAL;VALUE=DURATION:PT1H
X-Robots-Tag:noindex
X-PUBLISHED-TTL:PT1H
BEGIN:VTIMEZONE
TZID:Europe/Stockholm
BEGIN:DAYLIGHT
TZOFFSETFROM:+0100
TZOFFSETTO:+0200
TZNAME:CEST
DTSTART:20250330T010000
END:DAYLIGHT
BEGIN:STANDARD
TZOFFSETFROM:+0200
TZOFFSETTO:+0100
TZNAME:CET
DTSTART:20251026T010000
END:STANDARD
BEGIN:DAYLIGHT
TZOFFSETFROM:+0100
TZOFFSETTO:+0200
TZNAME:CEST
DTSTART:20260329T010000
END:DAYLIGHT
BEGIN:STANDARD
TZOFFSETFROM:+0200
TZOFFSETTO:+0100
TZNAME:CET
DTSTART:20261025T010000
END:STANDARD
BEGIN:DAYLIGHT
TZOFFSETFROM:+0100
TZOFFSETTO:+0200
TZNAME:CEST
DTSTART:20270328T010000
END:DAYLIGHT
BEGIN:STANDARD
TZOFFSETFROM:+0200
TZOFFSETTO:+0100
TZNAME:CET
DTSTART:20271031T010000
END:STANDARD
END:VTIMEZONE
BEGIN:VEVENT
DTSTART;TZID=Europe/Stockholm:20260523T100000
DTEND;TZID=Europe/Stockholm:20260523T150000
DTSTAMP:20260425T131938
CREATED:20260420T195936Z
LAST-MODIFIED:20260420T200326Z
UID:10311-1779530400-1779548400@xn--ss-xia.nu
SUMMARY:Inbjudan till arbetsdag och säsongsöppning på Verkarna – lördag 23 maj
DESCRIPTION:Nu är det dags att öppna upp vår fina klubbholme Verkarna för säsongen – och det gör vi allra bäst tillsammans!\nHolmvärdarna hälsar alla medlemmar som vill varmt välkomna till arbetsdag och säsongsöppning på Verkarna lördagen den 23 maj. Verkarna är en fantastisk plats som betyder mycket för många av oss\, och för att den ska fortsätta vara trivsam\, välkomnande och i fint skick behöver vi hjälpas åt. \nSamling sker kl. 10.00 på Verkarna och dagen avslutas cirka kl. 15.00. För den som behöver hämtning vid Boda brygga går det bra att ange det i anmälan. Hämtningar sker från kl. 09.00. \nUnder dagen finns det många praktiska uppgifter som vi tillsammans enkelt kan ta oss an\, till exempel att: \n\nstäda våra gemensamma ytor efter höst och vinter\ntvätta bryggor och elstolpar\nklyva ved till bastun\ntvätta fasaden på toaletthuset\nbygga en ny sandlåda till barnen\nreparera stormskadat bord\nDet blir en härlig dag med gemenskap\, frisk luft och känslan av att tillsammans göra Verkarna redo för en ny säsong.\n\nUnder dagen bjuds det på både fika och lunch. Lunchen lagas av Madde och Maria\, som många känner igen från seglarlägren och deras uppskattade matlagning. Det ser vi verkligen fram emot! \nVi söker också fortfarande medlemmar som vill engagera sig som holmvärdar. Arbetsdagen är ett utmärkt tillfälle att komma ut till ön\, träffa våra holmvärdar och få veta mer om vad uppdraget innebär. \nVi hoppas att många vill vara med – ju fler vi är\, desto roligare och lättare blir det. \nANMÄLAN GÖR DU HÄR – LÄNK \nVid frågor kontakta ledande funktionär Per Clementz på verkarna@åss.nu \nVarmt välkommen till en fin dag på Verkarna!
URL:https://xn--ss-xia.nu/event/inbjudan-till-arbetsdag-och-sasongsoppning-pa-verkarna-lordag-23-maj/
CATEGORIES:Verkarna
END:VEVENT
END:VCALENDAR