BEGIN:VCALENDAR
VERSION:2.0
PRODID:-//Årstavikens Segelsällskap - ÅSS - ECPv6.15.20//NONSGML v1.0//EN
CALSCALE:GREGORIAN
METHOD:PUBLISH
X-WR-CALNAME:Årstavikens Segelsällskap - ÅSS
X-ORIGINAL-URL:https://xn--ss-xia.nu
X-WR-CALDESC:Händelser för Årstavikens Segelsällskap - ÅSS
REFRESH-INTERVAL;VALUE=DURATION:PT1H
X-Robots-Tag:noindex
X-PUBLISHED-TTL:PT1H
BEGIN:VTIMEZONE
TZID:Europe/Stockholm
BEGIN:DAYLIGHT
TZOFFSETFROM:+0100
TZOFFSETTO:+0200
TZNAME:CEST
DTSTART:20250330T010000
END:DAYLIGHT
BEGIN:STANDARD
TZOFFSETFROM:+0200
TZOFFSETTO:+0100
TZNAME:CET
DTSTART:20251026T010000
END:STANDARD
BEGIN:DAYLIGHT
TZOFFSETFROM:+0100
TZOFFSETTO:+0200
TZNAME:CEST
DTSTART:20260329T010000
END:DAYLIGHT
BEGIN:STANDARD
TZOFFSETFROM:+0200
TZOFFSETTO:+0100
TZNAME:CET
DTSTART:20261025T010000
END:STANDARD
BEGIN:DAYLIGHT
TZOFFSETFROM:+0100
TZOFFSETTO:+0200
TZNAME:CEST
DTSTART:20270328T010000
END:DAYLIGHT
BEGIN:STANDARD
TZOFFSETFROM:+0200
TZOFFSETTO:+0100
TZNAME:CET
DTSTART:20271031T010000
END:STANDARD
END:VTIMEZONE
BEGIN:VEVENT
DTSTART;VALUE=DATE:20260619
DTEND;VALUE=DATE:20260620
DTSTAMP:20260425T143628
CREATED:20260420T201400Z
LAST-MODIFIED:20260420T201400Z
UID:10333-1781827200-1781913599@xn--ss-xia.nu
SUMMARY:MIDSOMMARFIRANDE PÅ VERKARNA
DESCRIPTION:Det blir midsommarfirande på Verkarna även i år. Mer information om tider\, program och praktiska detaljer kommer längre fram.
URL:https://xn--ss-xia.nu/event/midsommarfirande-pa-verkarna/
CATEGORIES:Verkarna
END:VEVENT
BEGIN:VEVENT
DTSTART;TZID=Europe/Stockholm:20260621T140000
DTEND;TZID=Europe/Stockholm:20260627T150000
DTSTAMP:20260425T143628
CREATED:20260420T202308Z
LAST-MODIFIED:20260420T202308Z
UID:10339-1782050400-1782572400@xn--ss-xia.nu
SUMMARY:ÅSS UNGDOMS SEGLARLÄGER 21-27 JUNI - HAMNEN STÄNGD
DESCRIPTION:Med anledning av ÅSS ungdoms seglarläger kommer hamnen att vara stängd för medlemmar och besökare från söndagen den 21 juni kl. 14.00 till lördagen den 27 juni kl. 15.00. \nAnledningen är säkerheten och att vi under lägret har många deltagare på ön. Seglarlägret behöver därför disponera hela hamnen under denna period.
URL:https://xn--ss-xia.nu/event/ass-ungdoms-seglarlager-21-27-juni-hamnen-stangd/
CATEGORIES:Verkarna
END:VEVENT
END:VCALENDAR