BEGIN:VCALENDAR
VERSION:2.0
PRODID:-//Årstavikens Segelsällskap - ÅSS - ECPv6.15.20//NONSGML v1.0//EN
CALSCALE:GREGORIAN
METHOD:PUBLISH
X-WR-CALNAME:Årstavikens Segelsällskap - ÅSS
X-ORIGINAL-URL:https://xn--ss-xia.nu
X-WR-CALDESC:Händelser för Årstavikens Segelsällskap - ÅSS
REFRESH-INTERVAL;VALUE=DURATION:PT1H
X-Robots-Tag:noindex
X-PUBLISHED-TTL:PT1H
BEGIN:VTIMEZONE
TZID:Europe/Stockholm
BEGIN:DAYLIGHT
TZOFFSETFROM:+0100
TZOFFSETTO:+0200
TZNAME:CEST
DTSTART:20250330T010000
END:DAYLIGHT
BEGIN:STANDARD
TZOFFSETFROM:+0200
TZOFFSETTO:+0100
TZNAME:CET
DTSTART:20251026T010000
END:STANDARD
BEGIN:DAYLIGHT
TZOFFSETFROM:+0100
TZOFFSETTO:+0200
TZNAME:CEST
DTSTART:20260329T010000
END:DAYLIGHT
BEGIN:STANDARD
TZOFFSETFROM:+0200
TZOFFSETTO:+0100
TZNAME:CET
DTSTART:20261025T010000
END:STANDARD
BEGIN:DAYLIGHT
TZOFFSETFROM:+0100
TZOFFSETTO:+0200
TZNAME:CEST
DTSTART:20270328T010000
END:DAYLIGHT
BEGIN:STANDARD
TZOFFSETFROM:+0200
TZOFFSETTO:+0100
TZNAME:CET
DTSTART:20271031T010000
END:STANDARD
END:VTIMEZONE
BEGIN:VEVENT
DTSTART;VALUE=DATE:20260822
DTEND;VALUE=DATE:20260823
DTSTAMP:20260425T173017
CREATED:20260420T201644Z
LAST-MODIFIED:20260420T201644Z
UID:10336-1787356800-1787443199@xn--ss-xia.nu
SUMMARY:KRÄFTSKIVA PÅ VERKARNA 22 AUGUSTI
DESCRIPTION:Det blir kräftskiva på Verkarna den 22 augusti. Spara gärna datumet! Mer information om tider\, upplägg och praktiska detaljer kommer längre fram.
URL:https://xn--ss-xia.nu/event/kraftskiva-pa-verkarna-22-augusti/
CATEGORIES:Verkarna
END:VEVENT
END:VCALENDAR