BEGIN:VCALENDAR
VERSION:2.0
PRODID:-//Årstavikens Segelsällskap - ÅSS - ECPv6.15.20//NONSGML v1.0//EN
CALSCALE:GREGORIAN
METHOD:PUBLISH
X-ORIGINAL-URL:https://xn--ss-xia.nu
X-WR-CALDESC:Händelser för Årstavikens Segelsällskap - ÅSS
REFRESH-INTERVAL;VALUE=DURATION:PT1H
X-Robots-Tag:noindex
X-PUBLISHED-TTL:PT1H
BEGIN:VTIMEZONE
TZID:Europe/Stockholm
BEGIN:DAYLIGHT
TZOFFSETFROM:+0100
TZOFFSETTO:+0200
TZNAME:CEST
DTSTART:20250330T010000
END:DAYLIGHT
BEGIN:STANDARD
TZOFFSETFROM:+0200
TZOFFSETTO:+0100
TZNAME:CET
DTSTART:20251026T010000
END:STANDARD
BEGIN:DAYLIGHT
TZOFFSETFROM:+0100
TZOFFSETTO:+0200
TZNAME:CEST
DTSTART:20260329T010000
END:DAYLIGHT
BEGIN:STANDARD
TZOFFSETFROM:+0200
TZOFFSETTO:+0100
TZNAME:CET
DTSTART:20261025T010000
END:STANDARD
BEGIN:DAYLIGHT
TZOFFSETFROM:+0100
TZOFFSETTO:+0200
TZNAME:CEST
DTSTART:20270328T010000
END:DAYLIGHT
BEGIN:STANDARD
TZOFFSETFROM:+0200
TZOFFSETTO:+0100
TZNAME:CET
DTSTART:20271031T010000
END:STANDARD
END:VTIMEZONE
BEGIN:VEVENT
DTSTART;TZID=Europe/Stockholm:20260218T130000
DTEND;TZID=Europe/Stockholm:20260218T150000
DTSTAMP:20260425T132041
CREATED:20260117T072243Z
LAST-MODIFIED:20260123T202914Z
UID:9762-1771419600-1771426800@xn--ss-xia.nu
SUMMARY:Veteranernas skeppsråd i klubbhuset
DESCRIPTION:Veteranernas skeppsråd\, vi börjar kl 13.00
URL:https://xn--ss-xia.nu/event/veteranernas-skeppsrad-i-klubbhuset/
CATEGORIES:Klubbhus,Veteranerna
END:VEVENT
END:VCALENDAR